BEGIN:VCALENDAR
VERSION:2.0
PRODID:-//Kristna synskadades förening Syskonbandet - ECPv6.15.11//NONSGML v1.0//EN
CALSCALE:GREGORIAN
METHOD:PUBLISH
X-WR-CALNAME:Kristna synskadades förening Syskonbandet
X-ORIGINAL-URL:https://www.syskonbandet.se
X-WR-CALDESC:Händelser för Kristna synskadades förening Syskonbandet
REFRESH-INTERVAL;VALUE=DURATION:PT1H
X-Robots-Tag:noindex
X-PUBLISHED-TTL:PT1H
BEGIN:VTIMEZONE
TZID:Europe/Stockholm
BEGIN:DAYLIGHT
TZOFFSETFROM:+0100
TZOFFSETTO:+0200
TZNAME:CEST
DTSTART:20250330T010000
END:DAYLIGHT
BEGIN:STANDARD
TZOFFSETFROM:+0200
TZOFFSETTO:+0100
TZNAME:CET
DTSTART:20251026T010000
END:STANDARD
BEGIN:DAYLIGHT
TZOFFSETFROM:+0100
TZOFFSETTO:+0200
TZNAME:CEST
DTSTART:20260329T010000
END:DAYLIGHT
BEGIN:STANDARD
TZOFFSETFROM:+0200
TZOFFSETTO:+0100
TZNAME:CET
DTSTART:20261025T010000
END:STANDARD
BEGIN:DAYLIGHT
TZOFFSETFROM:+0100
TZOFFSETTO:+0200
TZNAME:CEST
DTSTART:20270328T010000
END:DAYLIGHT
BEGIN:STANDARD
TZOFFSETFROM:+0200
TZOFFSETTO:+0100
TZNAME:CET
DTSTART:20271031T010000
END:STANDARD
END:VTIMEZONE
BEGIN:VEVENT
DTSTART;TZID=Europe/Stockholm:20260513T170000
DTEND;TZID=Europe/Stockholm:20260517T140000
DTSTAMP:20260425T144313
CREATED:20260120T100658Z
LAST-MODIFIED:20260331T124531Z
UID:6722-1778691600-1779026400@www.syskonbandet.se
SUMMARY:Syskonbandsdagar och årsmöte
DESCRIPTION:Syskonbandsdagar i maj – ”Ett enat folk på väg”    \nDu inbjuds till Syskonbandsdagar i Kristihimmelsfärdshelgen 13-17 maj\, i Sveriges äldsta stad Sigtuna och vi kan nu presentera mycket av dagarnas program!   \nEtt enat folk på väg är vårt tema för dagarna. Med det vill vi uppmärksamma vår förenings grund i ekumenik – vår berikande variation av kyrkliga hemvister och uttryckssätt. I seminarier och i kreativa inslag kommer vi få prova på kanske för oss nya sätt för bön och tro. Med våra olikheter kommer vi samman i gemenskap med varandra och Kristus.   \nI seminarium om just ekumenikens betydelse gästas vi av Nausikaa Haupt från Katolska ekumeniska nämnden. Hon berättar om sin egen resa och engagemang för ekumenik\, både för egen del och för kyrkorna. I kreativ workshop får vi skapa våra egna bönekors. Det är första gången vi förlägger dagarna i Sigtuna och vi vill därför utforska den gamla lilla kyrkliga staden\, så vi går en guidad tur på dess historiska gator. Det ges tid för den som vill strosa extra och kanske är det då några som tar sig en fika i berömda Tant Bruns Kaffestuga. Varje morgon och kväll håller en medlem andakt på sitt egna uttrycks vis\, och på söndagen firar vi gudstjänst. Därutöver blir det lekfulla inslag\, konstruktiva samtal och årsmöte. Vi ska också njuta av god mat\, gemenskap och den vackra miljön i sköna maj!   \nSigtuna folkhögskola vistas vi på\, som har nära till både vatten och stadskärnan. Skolan\, med nära anknytning till Svenska Kyrkan\, har god tillgänglighet. Hörslinga finns i samlingslokalen och ledarhundar är välkomna. Ideella ledsagare kommer finnas till hands. Enkel- och dubbelrum bor vi i\, som alla har egen WC och dusch. Vårt arrangemang är drog- och alkoholfritt och görs i samarbete med Studieförbundet Bilda.   \nDatum & tid: start onsdag 13 maj kl 17 och avslut söndag 17 maj kl 13. Deltagaravgift: tvåbäddsrum 2400 kr\, enkelrumstillägg 1000 kr. Barn 3-12 år 750 kr\, yngre barn gratis.   \nDetta är den kraftigt subventionerade deltagaravgiften för hela vistelsen som gäller betalande medlem och för den som deltar för första gången i Syskonbandets arrangemang. Möjlighet finns att därtill söka enskilt bidrag\, 13 april är sista ansökningsdag.   \nResa: Till Sigtuna är det ca 1 timme från Stockholm\, 30 min från Uppsala\, 15 min från Arlanda. Med kollektivtrafik från både Stockholm och Uppsala går det pendeltåg till Märsta och sedan buss till Sigtuna. Vi samordnar gemensam resa för denna sträcka från Stockholm C kl 15 på onsdagen. På söndagen räknar vi med att gemensamt vara på Stockholm C kl 15. Boka din resa utifrån dessa tider om du vill få sällskap sista biten.   \nResesubvention kan du få på upp till 700 kr\, för den del av din resa som överstiger 500 kr.   \nAnmälan: senast 13 april. För frågor och anmälan\, kontakta Tina på kansliet.   \nMycket varmt välkommen är var och en – medlem eller ej\, ung eller gammal\, människa och ledarhund!   \nI samarbete med studieförbundet Bilda. \n \n 
URL:https://www.syskonbandet.se/evenemang/syskonbandsdagar-och-arsmote-2026/
END:VEVENT
END:VCALENDAR